BEGIN:VCALENDAR
VERSION:2.0
PRODID:-//Plone.org//NONSGML plone.app.event//EN
X-WR-TIMEZONE:US/Central
BEGIN:VEVENT
SUMMARY:Book Club
DTSTART;TZID=US/Central:20240618T180000
DTEND;TZID=US/Central:20240618T193000
DTSTAMP:20260422T125640Z
UID:b3a60e02d0fb4f65ad589d48716940fd@saas_stack_varnish:6080
CONTACT:Sandy Doyle\, 573-324-5030\, bgplcataloger@gmail.com
CREATED:20240520T184251Z
LAST-MODIFIED:20240522T174306Z
LOCATION:Bowling Green Public Library
URL:https://www.bgmopubliclibrary.com/calendar-news/events/book-club-1
END:VEVENT
BEGIN:VTIMEZONE
TZID:US/Central
X-LIC-LOCATION:US/Central
BEGIN:DAYLIGHT
DTSTART:20240310T030000
TZNAME:CDT
TZOFFSETFROM:-0600
TZOFFSETTO:-0500
END:DAYLIGHT
END:VTIMEZONE
END:VCALENDAR
